BEGIN:VCALENDAR
VERSION:2.0
PRODID:-//Denbigh Dragons - ECPv4.2.6//NONSGML v1.0//EN
CALSCALE:GREGORIAN
METHOD:PUBLISH
X-WR-CALNAME:Denbigh Dragons
X-ORIGINAL-URL:http://www.denbighdragons.co.uk
X-WR-CALDESC:Events for Denbigh Dragons
BEGIN:VEVENT
DTSTART;VALUE=DATE:20231203
DTEND;VALUE=DATE:20231203
DTSTAMP:20260421T165143
CREATED:20231011
LAST-MODIFIED:20231015
UID:2822-1701561600-1701647999@www.denbighdragons.co.uk
SUMMARY:Chirk Christmas Cracker Meet
DESCRIPTION:Chirk Christmas Cracker 2023
URL:http://www.denbighdragons.co.uk/event/chirk-christmas-cracker-meet/
END:VEVENT
END:VCALENDAR