BEGIN:VCALENDAR
VERSION:2.0
PRODID:-//Denbigh Dragons - ECPv4.2.6//NONSGML v1.0//EN
CALSCALE:GREGORIAN
METHOD:PUBLISH
X-WR-CALNAME:Denbigh Dragons
X-ORIGINAL-URL:http://www.denbighdragons.co.uk
X-WR-CALDESC:Events for Denbigh Dragons
BEGIN:VEVENT
DTSTART;VALUE=DATE:20231028
DTEND;VALUE=DATE:20231028
DTSTAMP:20260421T201440
CREATED:20230911
LAST-MODIFIED:20230911
UID:2773-1698451200-1698537599@www.denbighdragons.co.uk
SUMMARY:Geoff Drew Meet 2023
DESCRIPTION:Geoff Drew Meet 2023
URL:http://www.denbighdragons.co.uk/event/geoff-drew-meet-2023/
END:VEVENT
END:VCALENDAR