BEGIN:VCALENDAR
VERSION:2.0
PRODID:-//Denbigh Dragons - ECPv4.2.6//NONSGML v1.0//EN
CALSCALE:GREGORIAN
METHOD:PUBLISH
X-WR-CALNAME:Denbigh Dragons
X-ORIGINAL-URL:http://www.denbighdragons.co.uk
X-WR-CALDESC:Events for Denbigh Dragons
BEGIN:VEVENT
DTSTART;VALUE=DATE:20250424
DTEND;VALUE=DATE:20250427
DTSTAMP:20260421T213707
CREATED:20240903
LAST-MODIFIED:20250130
UID:3080-1745452800-1745798399@www.denbighdragons.co.uk
SUMMARY:Swim Wales National Championships 2025
DESCRIPTION:a2b4f7e5-301f-47e0-a47b-2a88acbedebe (1)
URL:http://www.denbighdragons.co.uk/event/swim-wales-national-championships-2025/
END:VEVENT
END:VCALENDAR