BEGIN:VCALENDAR
VERSION:2.0
PRODID:-//Denbigh Dragons - ECPv4.2.6//NONSGML v1.0//EN
CALSCALE:GREGORIAN
METHOD:PUBLISH
X-WR-CALNAME:Denbigh Dragons
X-ORIGINAL-URL:http://www.denbighdragons.co.uk
X-WR-CALDESC:Events for Denbigh Dragons
BEGIN:VEVENT
DTSTART;VALUE=DATE:20240714
DTEND;VALUE=DATE:20240714
DTSTAMP:20260421T105526
CREATED:20231130
LAST-MODIFIED:20240508
UID:2877-1720915200-1721001599@www.denbighdragons.co.uk
SUMMARY:Swim Wales National Development Meet (LC)
DESCRIPTION:The Swim Wales Development Meet is a closed event and is aimed at developing Welsh swimmers offering an opportunity to compete at the 50m National Pool\, Swansea.
URL:http://www.denbighdragons.co.uk/event/swim-wales-national-development-meet-lc/
END:VEVENT
END:VCALENDAR