BEGIN:VCALENDAR
VERSION:2.0
PRODID:-//Denbigh Dragons - ECPv4.2.6//NONSGML v1.0//EN
CALSCALE:GREGORIAN
METHOD:PUBLISH
X-WR-CALNAME:Denbigh Dragons
X-ORIGINAL-URL:http://www.denbighdragons.co.uk
X-WR-CALDESC:Events for Denbigh Dragons
BEGIN:VEVENT
DTSTART;VALUE=DATE:20241013
DTEND;VALUE=DATE:20241013
DTSTAMP:20260421T165646
CREATED:20240821
LAST-MODIFIED:20240902
UID:3069-1728777600-1728863999@www.denbighdragons.co.uk
SUMMARY:Swim Wales Regional Short Course Development Meet - North
DESCRIPTION:swim wales development meet\n\n 
URL:http://www.denbighdragons.co.uk/event/swim-wales-regional-short-course-development-meet/
END:VEVENT
END:VCALENDAR