BEGIN:VCALENDAR
VERSION:2.0
PRODID:-//Denbigh Dragons - ECPv4.2.6//NONSGML v1.0//EN
CALSCALE:GREGORIAN
METHOD:PUBLISH
X-WR-CALNAME:Denbigh Dragons
X-ORIGINAL-URL:http://www.denbighdragons.co.uk
X-WR-CALDESC:Events for Denbigh Dragons
BEGIN:VEVENT
DTSTART;VALUE=DATE:20240106
DTEND;VALUE=DATE:20240107
DTSTAMP:20260421T140423
CREATED:20231128
LAST-MODIFIED:20231128
UID:2866-1704499200-1704671999@www.denbighdragons.co.uk
SUMMARY:VALENTINE MEET 2024 Level 2 and 3 Meet
DESCRIPTION:Valentine-Meet-HASC-Meet-Info-2024-level-1-and-2-V2 (002)
URL:http://www.denbighdragons.co.uk/event/valentine-meet-2024-level-2-and-3-meet/
END:VEVENT
END:VCALENDAR